BEGIN:VCALENDAR
PRODID:-//AT Content Types//AT Event//EN
VERSION:2.0
METHOD:PUBLISH
BEGIN:VEVENT
DTSTAMP:20260420T053643Z
CREATED:20150212T014613Z
UID:ATEvent-abc4398830e34361b06e498de584f0be
LAST-MODIFIED:20160610T044254Z
SUMMARY:【4/10開催】OpenStackの普及 でどう変わる？クラウド時代の運用管理 ＜無償セミナー＞
DTSTART:20150410T000000Z
DTEND:20150410T090000Z
CATEGORIES:満員御礼
URL:https://www.miraclelinux.com/event-seminar/2014-04-10
CLASS:PUBLIC
END:VEVENT
END:VCALENDAR
