BEGIN:VCALENDAR
PRODID:-//AT Content Types//AT Event//EN
VERSION:1.0
BEGIN:VEVENT
DTSTART:20130824T003000Z
DTEND:20130825T073000Z
DCREATED:20130522T082812Z
UID:ATEvent-4abb6a9875654b5b8e4035aa87d4925e
SEQUENCE:0
LAST-MODIFIED:20130823T052203Z
SUMMARY:【8/24-25開催】MIRACLE ZBX 2.0 設計コース ＜銀座会場・2日間＞
PRIORITY:3
TRANSP:0
END:VEVENT
END:VCALENDAR
